1.0000000000
0.0000000000
0.0000000000
-1.0000000000
614449.5000000000
4234747.5000000000
