1.0000000000
0.0000000000
0.0000000000
-1.0000000000
608980.5000000000
4234668.5000000000
