1.0000000000
0.0000000000
0.0000000000
-1.0000000000
614548.5000000000
4227812.5000000000
