BEGIN_USGS_DOQ_HEADER *
QUADRANGLE_NAME "RIO VISTA" 3.45 or 7.5-min. name*
QUADRANT SE quadrant indicator if cell size = 3.75-minutes*
WEST_LONGITUDE -121 41 15.000 signed deg min sec SDDD MM SS.SSS*
EAST_LONGITUDE -121 37 30.000 signed deg min sec SDDD MM SS.SSS*
NORTH_LATITUDE 38 11 15.000 signed deg min sec SDDD MM SS.SSS*
SOUTH_LATITUDE 38 7 30.000 signed deg min sec SDDD MM SS.SSS*
PRODUCTION_DATE 1998 8 6 yyyy mm dd*
RASTER_ORDER LEFT_RIGHT/TOP_BOTTOM video display order*
BAND_ORGANIZATION "SINGLE FILE" single file or BSQ, or BIL or BIP*
BAND_CONTENT BLACK&WHITE black&white or red green blue*
BITS_PER_PIXEL 8 radiometric resolution*
SAMPLES_AND_LINES 6272 7628 number of columns and rows*
HORIZONTAL_DATUM NAD83 primary horizontal datum*
HORIZONTAL_COORDINATE_SYSTEM UTM *
COORDINATE_ZONE 10 coordinate system zone number*
HORIZONTAL_UNITS METERS coordinate system units*
HORIZONTAL_RESOLUTION 1.00 pixel horiz. ground sample distance*
SECONDARY_HORIZONTAL_DATUM NAD27 secondary horizontal datum*
XY_ORIGIN 614548.000 4227813.000 coord. of upper left pixel pri. datum*
SECONDARY_XY_ORIGIN 614644.141 4227617.560 coord upper left pixel sec datum*
NATION US nation code*
STATE CA state fip code*
NW_QUAD_CORNER_XY 614942.371 4227432.867 XY coords. of pri. NW quad corner*
NE_QUAD_CORNER_XY 620416.062 4227512.247 XY coords. of pri. NE quad corner*
SE_QUAD_CORNER_XY 620518.905 4220577.080 XY coords. of pri. SE quad corner*
SW_QUAD_CORNER_XY 615040.537 4220497.743 XY coords. of pri. SW quad corner*
SECONDARY_NW_QUAD_XY 614945.258 4227226.767 XY coords. - sec. NW quad cor.*
SECONDARY_NE_QUAD_XY 620419.086 4227306.149 XY coords. - sec. NE quad cor.*
SECONDARY_SE_QUAD_XY 620521.927 4220371.129 XY coords. - sec. SE quad cor.*
SECONDARY_SW_QUAD_XY 615043.422 4220291.789 XY coords. - sec. SW quad cor.*
RMSE_XY 0.90 doq horiz. accuracy*
IMAGE_SOURCE "BLACK AND WHITE FILM" b&w, cir, natural color, other*
SOURCE_IMAGE_ID "NAPP 6356 142" source image id*
SOURCE_IMAGE_DATE 1993 06 15 source image date as yyyy mm dd*
SOURCE_DEM_DATE 1978 00 00 source dem date yyyy mm dd*
AGENCY "WESTERN MAPPING CENTER (WMC)" oversight agency*
PRODUCER "SCIENCE APPLICATIONS INTERNATIONAL" producer/contractor*
PRODUCTION_SYSTEM "GIS/MAGIC" production system*
STANDARD_VERSION 1996 12 version of DOQ standard*
METADATA_DATE 1998 08 24 date created or changed, yyyy mm dd*
DATA_FILE_SIZE 47849088 data set size in bytes*
BYTE_COUNT 6272 header byte count* * * * * * * * * * * * * * * * * * * * * * * * * * * * * * * * * * * *
END_USGS_HEADER *
