1.0000000000
0.0000000000
0.0000000000
-1.0000000000
609074.5000000000
4227732.5000000000
