1.0000000000
0.0000000000
0.0000000000
-1.0000000000
603511.5000000000
4234592.5000000000
