BEGIN_USGS_DOQ_HEADER *
QUADRANGLE_NAME "BIRDS LANDING" 3.45 or 7.5-min. name*
QUADRANT NE quadrant indicator if cell size = 3.75-minutes*
WEST_LONGITUDE -121 48 45.000 signed deg min sec SDDD MM SS.SSS*
EAST_LONGITUDE -121 45 0.000 signed deg min sec SDDD MM SS.SSS*
NORTH_LATITUDE 38 15 0.000 signed deg min sec SDDD MM SS.SSS*
SOUTH_LATITUDE 38 11 15.000 signed deg min sec SDDD MM SS.SSS*
PRODUCTION_DATE 1998 8 6 yyyy mm dd*
RASTER_ORDER LEFT_RIGHT/TOP_BOTTOM video display order*
BAND_ORGANIZATION "SINGLE FILE" single file or BSQ, or BIL or BIP*
BAND_CONTENT BLACK&WHITE black&white or red green blue*
BITS_PER_PIXEL 8 radiometric resolution*
SAMPLES_AND_LINES 6259 7621 number of columns and rows*
HORIZONTAL_DATUM NAD83 primary horizontal datum*
HORIZONTAL_COORDINATE_SYSTEM UTM *
COORDINATE_ZONE 10 coordinate system zone number*
HORIZONTAL_UNITS METERS coordinate system units*
HORIZONTAL_RESOLUTION 1.00 pixel horiz. ground sample distance*
SECONDARY_HORIZONTAL_DATUM NAD27 secondary horizontal datum*
XY_ORIGIN 603511.000 4234593.000 coord. of upper left pixel pri. datum*
SECONDARY_XY_ORIGIN 603607.131 4234397.551 coord upper left pixel sec datum*
NATION US nation code*
STATE CA state fip code*
NW_QUAD_CORNER_XY 603906.149 4234220.305 XY coords. of pri. NW quad corner*
NE_QUAD_CORNER_XY 609375.093 4234292.336 XY coords. of pri. NE quad corner*
SE_QUAD_CORNER_XY 609468.713 4227357.181 XY coords. of pri. SE quad corner*
SW_QUAD_CORNER_XY 603995.086 4227285.189 XY coords. of pri. SW quad corner*
SECONDARY_NW_QUAD_XY 603908.762 4234014.054 XY coords. - sec. NW quad cor.*
SECONDARY_NE_QUAD_XY 609377.844 4234086.087 XY coords. - sec. NE quad cor.*
SECONDARY_SE_QUAD_XY 609471.462 4227151.079 XY coords. - sec. SE quad cor.*
SECONDARY_SW_QUAD_XY 603997.698 4227079.084 XY coords. - sec. SW quad cor.*
RMSE_XY 0.70 doq horiz. accuracy*
IMAGE_SOURCE "BLACK AND WHITE FILM" b&w, cir, natural color, other*
SOURCE_IMAGE_ID "NAPP 6354 118" source image id*
SOURCE_IMAGE_DATE 1993 06 12 source image date as yyyy mm dd*
IMAGE_SOURCE "BLACK AND WHITE FILM" b&w, cir, natural color, other*
SOURCE_IMAGE_ID "NAPP 6354 116" source image id*
SOURCE_IMAGE_DATE 1993 06 12 source image date as yyyy mm dd*
SOURCE_DEM_DATE 1968 00 00 source dem date yyyy mm dd*
AGENCY "WESTERN MAPPING CENTER (WMC)" oversight agency*
PRODUCER "SCIENCE APPLICATIONS INTERNATIONAL" producer/contractor*
PRODUCTION_SYSTEM "GIS/MAGIC" production system*
STANDARD_VERSION 1996 12 version of DOQ standard*
METADATA_DATE 1998 08 21 date created or changed, yyyy mm dd*
DATA_FILE_SIZE 47706098 data set size in bytes*
BYTE_COUNT 6259 header byte count* * * * * * * * * * * * * * * * * * * * * * * * * * * * * * * * *
END_USGS_HEADER *
