1.0000000000
0.0000000000
0.0000000000
-1.0000000000
598042.5000000000
4234520.5000000000
