1.0000000000
0.0000000000
0.0000000000
-1.0000000000
603600.5000000000
4227657.5000000000
