1.0000000000
0.0000000000
0.0000000000
-1.0000000000
598126.5000000000
4227585.5000000000
