1.0000000000
0.0000000000
0.0000000000
-1.0000000000
592573.5000000000
4234451.5000000000
