BEGIN_USGS_DOQ_HEADER *
QUADRANGLE_NAME "DENVERTON" 3.45 or 7.5-min. name*
QUADRANT NE quadrant indicator if cell size = 3.75-minutes*
WEST_LONGITUDE -121 56 15.000 signed deg min sec SDDD MM SS.SSS*
EAST_LONGITUDE -121 52 30.000 signed deg min sec SDDD MM SS.SSS*
NORTH_LATITUDE 38 15 0.000 signed deg min sec SDDD MM SS.SSS*
SOUTH_LATITUDE 38 11 15.000 signed deg min sec SDDD MM SS.SSS*
PRODUCTION_DATE 1998 8 6 yyyy mm dd*
RASTER_ORDER LEFT_RIGHT/TOP_BOTTOM video display order*
BAND_ORGANIZATION "SINGLE FILE" single file or BSQ, or BIL or BIP*
BAND_CONTENT BLACK&WHITE black&white or red green blue*
BITS_PER_PIXEL 8 radiometric resolution*
SAMPLES_AND_LINES 6250 7613 number of columns and rows*
HORIZONTAL_DATUM NAD83 primary horizontal datum*
HORIZONTAL_COORDINATE_SYSTEM UTM *
COORDINATE_ZONE 10 coordinate system zone number*
HORIZONTAL_UNITS METERS coordinate system units*
HORIZONTAL_RESOLUTION 1.00 pixel horiz. ground sample distance*
SECONDARY_HORIZONTAL_DATUM NAD27 secondary horizontal datum*
XY_ORIGIN 592573.000 4234452.000 coord. of upper left pixel pri. datum*
SECONDARY_XY_ORIGIN 592669.235 4234256.440 coord upper left pixel sec datum*
NATION US nation code*
STATE CA state fip code*
NW_QUAD_CORNER_XY 592968.346 4234087.329 XY coords. of pri. NW quad corner*
NE_QUAD_CORNER_XY 598437.233 4234151.970 XY coords. of pri. NE quad corner*
SE_QUAD_CORNER_XY 598521.488 4227216.889 XY coords. of pri. SE quad corner*
SW_QUAD_CORNER_XY 593047.918 4227152.283 XY coords. of pri. SW quad corner*
SECONDARY_NW_QUAD_XY 592970.685 4233881.075 XY coords. - sec. NW quad cor.*
SECONDARY_NE_QUAD_XY 598439.710 4233945.717 XY coords. - sec. NE quad cor.*
SECONDARY_SE_QUAD_XY 598523.962 4227010.783 XY coords. - sec. SE quad cor.*
SECONDARY_SW_QUAD_XY 593050.255 4226946.175 XY coords. - sec. SW quad cor.*
RMSE_XY 0.90 doq horiz. accuracy*
IMAGE_SOURCE "BLACK AND WHITE FILM" b&w, cir, natural color, other*
SOURCE_IMAGE_ID "NAPP 6361 188" source image id*
SOURCE_IMAGE_DATE 1993 07 11 source image date as yyyy mm dd*
IMAGE_SOURCE "BLACK AND WHITE FILM" b&w, cir, natural color, other*
SOURCE_IMAGE_ID "NAPP 6357 169" source image id*
SOURCE_IMAGE_DATE 1993 06 16 source image date as yyyy mm dd*
SOURCE_DEM_DATE 1980 00 00 source dem date yyyy mm dd*
AGENCY "WESTERN MAPPING CENTER (WMC)" oversight agency*
PRODUCER "SCIENCE APPLICATIONS INTERNATIONAL" producer/contractor*
PRODUCTION_SYSTEM "GIS/MAGIC" production system*
STANDARD_VERSION 1996 12 version of DOQ standard*
METADATA_DATE 1998 08 21 date created or changed, yyyy mm dd*
DATA_FILE_SIZE 47587500 data set size in bytes*
BYTE_COUNT 6250 header byte count* * * * * * * * * * * * * * * * * * * * * * * * * * * * * * * * *
END_USGS_HEADER *
