1.0000000000
0.0000000000
0.0000000000
-1.0000000000
587104.5000000000
4234387.5000000000
