1.0000000000
0.0000000000
0.0000000000
-1.0000000000
592653.5000000000
4227516.5000000000
