1.0000000000
0.0000000000
0.0000000000
-1.0000000000
668852.5000000000
4249617.5000000000
