1.0000000000
0.0000000000
0.0000000000
-1.0000000000
663392.5000000000
4249500.5000000000
