1.0000000000
0.0000000000
0.0000000000
-1.0000000000
668994.0000000000
4242685.0000000000
