1.0000000000
0.0000000000
0.0000000000
-1.0000000000
663529.0000000000
4242569.0000000000
