1.0000000000
0.0000000000
0.0000000000
-1.0000000000
657932.5000000000
4249387.5000000000
