1.0000000000
0.0000000000
0.0000000000
-1.0000000000
652472.5000000000
4249278.5000000000
