1.0000000000
0.0000000000
0.0000000000
-1.0000000000
658064.0000000000
4242456.0000000000
