1.0000000000
0.0000000000
0.0000000000
-1.0000000000
652600.0000000000
4242347.0000000000
