1.0000000000
0.0000000000
0.0000000000
-1.0000000000
647012.5000000000
4249173.5000000000
