1.0000000000
0.0000000000
0.0000000000
-1.0000000000
641552.5000000000
4249071.5000000000
