1.0000000000
0.0000000000
0.0000000000
-1.0000000000
647135.0000000000
4242242.0000000000
