1.0000000000
0.0000000000
0.0000000000
-1.0000000000
641670.0000000000
4242140.0000000000
