1.0000000000
0.0000000000
0.0000000000
-1.0000000000
636092.5000000000
4248973.5000000000
