1.0000000000
0.0000000000
0.0000000000
-1.0000000000
630741.0000000000
4241948.0000000000
