1.0000000000
0.0000000000
0.0000000000
-1.0000000000
625172.5000000000
4248788.5000000000
