1.0000000000
0.0000000000
0.0000000000
-1.0000000000
625290.5000000000
4241853.5000000000
