1.0000000000
0.0000000000
0.0000000000
-1.0000000000
614280.5000000000
4248618.5000000000
