1.0000000000
0.0000000000
0.0000000000
-1.0000000000
608793.5000000000
4248539.5000000000
