1.0000000000
0.0000000000
0.0000000000
-1.0000000000
614351.5000000000
4241683.5000000000
