1.0000000000
0.0000000000
0.0000000000
-1.0000000000
608887.5000000000
4241603.5000000000
