BEGIN_USGS_DOQ_HEADER *
QUADRANGLE_NAME "LIBERTY ISLAND" 3.45 or 7.5-min. name*
QUADRANT SW quadrant indicator if cell size = 3.75-minutes*
WEST_LONGITUDE -121 45 0.000 signed deg min sec SDDD MM SS.SSS*
EAST_LONGITUDE -121 41 15.000 signed deg min sec SDDD MM SS.SSS*
NORTH_LATITUDE 38 18 45.000 signed deg min sec SDDD MM SS.SSS*
SOUTH_LATITUDE 38 15 0.000 signed deg min sec SDDD MM SS.SSS*
PRODUCTION_DATE 1998 2 9 yyyy mm dd*
RASTER_ORDER LEFT_RIGHT/TOP_BOTTOM video display order*
BAND_ORGANIZATION "SINGLE FILE" single file or BSQ, or BIL or BIP*
BAND_CONTENT BLACK&WHITE black&white or red green blue*
BITS_PER_PIXEL 8 radiometric resolution*
SAMPLES_AND_LINES 6256 7625 number of columns and rows*
HORIZONTAL_DATUM NAD83 primary horizontal datum*
HORIZONTAL_COORDINATE_SYSTEM UTM *
COORDINATE_ZONE 10 coordinate system zone number*
HORIZONTAL_UNITS METERS coordinate system units*
HORIZONTAL_RESOLUTION 1.00 pixel horiz. ground sample distance*
SECONDARY_HORIZONTAL_DATUM NAD27 secondary horizontal datum*
XY_ORIGIN 608887.000 4241604.000 coord. of upper left pixel pri. datum*
SECONDARY_XY_ORIGIN 608983.088 4241408.637 coord upper left pixel sec datum*
NATION US nation code*
STATE CA state fip code*
NW_QUAD_CORNER_XY 609281.342 4241227.562 XY coords. of pri. NW quad corner*
NE_QUAD_CORNER_XY 614745.627 4241303.328 XY coords. of pri. NE quad corner*
SE_QUAD_CORNER_XY 614844.068 4234368.063 XY coords. of pri. SE quad corner*
SW_QUAD_CORNER_XY 609375.093 4234292.336 XY coords. of pri. SW quad corner*
SECONDARY_NW_QUAD_XY 609284.095 4241021.167 XY coords. - sec. NW quad cor.*
SECONDARY_NE_QUAD_XY 614748.518 4241096.935 XY coords. - sec. NE quad cor.*
SECONDARY_SE_QUAD_XY 614846.957 4234161.815 XY coords. - sec. SE quad cor.*
SECONDARY_SW_QUAD_XY 609377.844 4234086.087 XY coords. - sec. SW quad cor.*
RMSE_XY 1.60 doq horiz. accuracy*
IMAGE_SOURCE "BLACK AND WHITE FILM" b&w, cir, natural color, other*
SOURCE_IMAGE_ID "NAPP 6357 040" source image id*
SOURCE_IMAGE_DATE 1993 6 16 source image date as yyyy mm dd*
SOURCE_DEM_DATE 1998 2 9 source dem date yyyy mm dd*
AGENCY "WESTERN MAPPING CENTER (WMC)" oversight agency*
PRODUCER "WESTERN MAPPING CENTER (WMC)" *
PRODUCTION_SYSTEM "DV2.6.3 10/9OV2.4 5/95" production system*
STANDARD_VERSION 1996 12 version of DOQ standard*
METADATA_DATE 1998 2 23 date created or changed, yyyy mm dd*
DATA_FILE_SIZE 47708256 data set size in bytes*
BYTE_COUNT 6256 header byte count* * * * * * * * * * * * * * * * * * * * * * * * * * * * * * * * * * * *
END_USGS_HEADER *
