1.0000000000
0.0000000000
0.0000000000
-1.0000000000
603333.5000000000
4248462.5000000000
