1.0000000000
0.0000000000
0.0000000000
-1.0000000000
597873.5000000000
4248390.5000000000
