BEGIN_USGS_DOQ_HEADER *
QUADRANGLE_NAME "DOZIER" 3.45 or 7.5-min. name*
QUADRANT NW quadrant indicator if cell size = 3.75-minutes*
WEST_LONGITUDE -121 52 30.000 signed deg min sec SDDD MM SS.SSS*
EAST_LONGITUDE -121 48 45.000 signed deg min sec SDDD MM SS.SSS*
NORTH_LATITUDE 38 22 30.000 signed deg min sec SDDD MM SS.SSS*
SOUTH_LATITUDE 38 18 45.000 signed deg min sec SDDD MM SS.SSS*
PRODUCTION_DATE 1998 8 6 yyyy mm dd*
RASTER_ORDER LEFT_RIGHT/TOP_BOTTOM video display order*
BAND_ORGANIZATION "SINGLE FILE" single file or BSQ, or BIL or BIP*
BAND_CONTENT BLACK&WHITE black&white or red green blue*
BITS_PER_PIXEL 8 radiometric resolution*
SAMPLES_AND_LINES 6246 7617 number of columns and rows*
HORIZONTAL_DATUM NAD83 primary horizontal datum*
HORIZONTAL_COORDINATE_SYSTEM UTM *
COORDINATE_ZONE 10 coordinate system zone number*
HORIZONTAL_UNITS METERS coordinate system units*
HORIZONTAL_RESOLUTION 1.00 pixel horiz. ground sample distance*
SECONDARY_HORIZONTAL_DATUM NAD27 secondary horizontal datum*
XY_ORIGIN 597873.000 4248391.000 coord. of upper left pixel pri. datum*
SECONDARY_XY_ORIGIN 597969.198 4248195.559 coord upper left pixel sec datum*
NATION US nation code*
STATE CA state fip code*
NW_QUAD_CORNER_XY 598268.372 4248022.345 XY coords. of pri. NW quad corner*
NE_QUAD_CORNER_XY 603727.902 4248090.751 XY coords. of pri. NE quad corner*
SE_QUAD_CORNER_XY 603817.087 4241155.493 XY coords. of pri. SE quad corner*
SW_QUAD_CORNER_XY 598352.861 4241087.122 XY coords. of pri. SW quad corner*
SECONDARY_NW_QUAD_XY 598270.851 4247815.801 XY coords. - sec. NW quad cor.*
SECONDARY_NE_QUAD_XY 603730.520 4247884.210 XY coords. - sec. NE quad cor.*
SECONDARY_SE_QUAD_XY 603819.703 4240949.096 XY coords. - sec. SE quad cor.*
SECONDARY_SW_QUAD_XY 598355.339 4240880.723 XY coords. - sec. SW quad cor.*
RMSE_XY 0.80 doq horiz. accuracy*
IMAGE_SOURCE "BLACK AND WHITE FILM" b&w, cir, natural color, other*
SOURCE_IMAGE_ID "NAPP 6354 197" source image id*
SOURCE_IMAGE_DATE 1993 06 12 source image date as yyyy mm dd*
IMAGE_SOURCE "BLACK AND WHITE FILM" b&w, cir, natural color, other*
SOURCE_IMAGE_ID "NAPP 6354 198" source image id*
SOURCE_IMAGE_DATE 1993 06 12 source image date as yyyy mm dd*
SOURCE_DEM_DATE 1968 00 00 source dem date yyyy mm dd*
AGENCY "WESTERN MAPPING CENTER (WMC)" oversight agency*
PRODUCER "SCIENCE APPLICATIONS INTERNATIONAL" producer/contractor*
PRODUCTION_SYSTEM "GIS/MAGIC" production system*
STANDARD_VERSION 1996 12 version of DOQ standard*
METADATA_DATE 1998 08 24 date created or changed, yyyy mm dd*
DATA_FILE_SIZE 47582028 data set size in bytes*
BYTE_COUNT 6246 header byte count* * * * * * * * * * * * * * * * * * * * * * * * * * * * * * * * *
END_USGS_HEADER *
