1.0000000000
0.0000000000
0.0000000000
-1.0000000000
603422.5000000000
4241527.5000000000
