1.0000000000
0.0000000000
0.0000000000
-1.0000000000
597958.5000000000
4241455.5000000000
