1.0000000000
0.0000000000
0.0000000000
-1.0000000000
592413.5000000000
4248322.5000000000
