1.0000000000
0.0000000000
0.0000000000
-1.0000000000
586954.5000000000
4248257.5000000000
