1.0000000000
0.0000000000
0.0000000000
-1.0000000000
592493.5000000000
4241387.5000000000
