1.0000000000
0.0000000000
0.0000000000
-1.0000000000
587029.5000000000
4241322.5000000000
