1.0000000000
0.0000000000
0.0000000000
-1.0000000000
668560.5000000000
4263489.5000000000
