1.0000000000
0.0000000000
0.0000000000
-1.0000000000
663110.5000000000
4263372.5000000000
