1.0000000000
0.0000000000
0.0000000000
-1.0000000000
668706.5000000000
4256553.5000000000
