1.0000000000
0.0000000000
0.0000000000
-1.0000000000
663251.5000000000
4256436.5000000000
