1.0000000000
0.0000000000
0.0000000000
-1.0000000000
657659.5000000000
4263259.5000000000
