1.0000000000
0.0000000000
0.0000000000
-1.0000000000
657796.5000000000
4256323.5000000000
